BEGIN:VCALENDAR
VERSION:2.0
PRODID:-//wp-events-plugin.com//7.2.3.1//EN
TZID:America/New_York
X-WR-TIMEZONE:America/New_York
BEGIN:VEVENT
UID:448@coopersfamilybrewing.com
DTSTART;TZID=America/New_York:20230901T170000
DTEND;TZID=America/New_York:20231031T190000
DTSTAMP:20230913T181512Z
URL:https://coopersfamilybrewing.com/events/buck-a-shuck-oysters-mon-thurs
 -5-7/
SUMMARY:Buck a Shuck Oysters Monday to Thursday from 5-7
DESCRIPTION:🍺🦪 Dive into 'Buck a Shuck' oysters at Cooper's Family Br
 ewing! Every Monday-Thursday\, 5-7 p.m. Fresh oysters for just $1 each + o
 ur signature brews. Don’t miss out!
ATTACH;FMTTYPE=image/jpeg:https://i0.wp.com/coopersfamilybrewing.com/wp-co
 ntent/uploads/2023/09/oysters-and-beer-square.jpg?fit=600%2C600&ssl=1
LOCATION:Cooper's Family Brewing\, 701 N Washington Ave\, Scranton\, PA\, 1
 8509\, United States
GEO:41.414356;-75.656939
X-APPLE-STRUCTURED-LOCATION;VALUE=URI;X-ADDRESS=701 N Washington Ave\, Scra
 nton\, PA\, 18509\, United States;X-APPLE-RADIUS=100;X-TITLE=Cooper's Fami
 ly Brewing:geo:41.414356,-75.656939
END:VEVENT
BEGIN:VTIMEZONE
TZID:America/New_York
X-LIC-LOCATION:America/New_York
BEGIN:DAYLIGHT
DTSTART:20230312T030000
TZOFFSETFROM:-0500
TZOFFSETTO:-0400
TZNAME:EDT
END:DAYLIGHT
END:VTIMEZONE
END:VCALENDAR